BEGIN:VCALENDAR
VERSION:2.0
PRODID:-//Squarespace Inc/Squarespace 6//v6//EN
BEGIN:VEVENT
UID:5f62f89155101d0ecc52fd6f@squarespace.com
DTSTAMP:20200917T060512Z
DTSTART:20201122T220000Z
DTEND:20210228T100000Z
SUMMARY:2020 Yoga Teacher Training
GEO:-31.889068;116.003105
LOCATION:Vital Beat\, 52 Helena Street\, Midland\, WA\, 6056\, Australia
END:VEVENT
END:VCALENDAR
