BEGIN:VCALENDAR
VERSION:2.0
PRODID:-//Squarespace Inc/Squarespace 6//v6//EN
BEGIN:VEVENT
UID:603452d5e6060e2c92fb3c3b@squarespace.com
DTSTAMP:20210223T010735Z
DTSTART:20210227T010000Z
DTEND:20210228T083000Z
SUMMARY:FREE CLASS Series - Graduating Teachers of Vital Beat
GEO:-31.889068;116.003105
LOCATION:Vital Beat\, 52 (REAR) Helena Street\, Midland\, WA\, 6056\, Austr
 alia
END:VEVENT
END:VCALENDAR
