BEGIN:VCALENDAR
VERSION:2.0
PRODID:-//Squarespace Inc/Squarespace 6//v6//EN
BEGIN:VEVENT
UID:602852a773e80a50567b5162@squarespace.com
DTSTAMP:20210213T224642Z
DTSTART:20210226T110000Z
DTEND:20210226T121500Z
SUMMARY:*FREE* Full Moon Event - MIDLAND
GEO:-31.889068;116.003105
LOCATION:Vital Beat Yoga\, 52 *REAR* Helena Street\, Midland\, WA\, 6056\, 
 Australia
END:VEVENT
END:VCALENDAR
