BEGIN:VCALENDAR
VERSION:2.0
PRODID:-//Squarespace Inc/Squarespace 6//v6//EN
BEGIN:VEVENT
UID:5f50415a15788b24a38a3c16@squarespace.com
DTSTAMP:20200913T115956Z
DTSTART:20200909T024500Z
DTEND:20201007T034500Z
SUMMARY:1 place left - Mums &amp\; Bubs Wednesday Series (Midland)
GEO:-31.889068;116.003105
LOCATION:Vital Beat\, 52 (REAR) Helena Street\, Midland\, WA\, 6056\, Austr
 alia
END:VEVENT
END:VCALENDAR
