BEGIN:VCALENDAR
VERSION:2.0
PRODID:-//Squarespace Inc/Squarespace 6//v6//EN
BEGIN:VEVENT
UID:5fb1efa616932f1df53e32fb@squarespace.com
DTSTAMP:20201228T081624Z
DTSTART:20210103T003000Z
DTEND:20210103T090000Z
SUMMARY:New Intention Retreat
GEO:-31.889068;116.003105
LOCATION:Vital Beat Yoga\, 52 (REAR) Helena Street\, Midland\, WA\, 6056\, 
 Australia
END:VEVENT
END:VCALENDAR
