BEGIN:VCALENDAR
VERSION:2.0
PRODID:-//Squarespace Inc/Squarespace 6//v6//EN
BEGIN:VEVENT
UID:5fdff4e0e64f5703154ebfa8@squarespace.com
DTSTAMP:20201221T012340Z
DTSTART:20210114T104500Z
DTEND:20210114T114500Z
SUMMARY:R&amp\;B Pregnancy Yoga (Midland)
GEO:-31.889068;116.003105
LOCATION:Vital Beat\, 52 (REAR) Helena Street\, Midland\, WA\, 6056\, Austr
 alia
END:VEVENT
END:VCALENDAR
